BEGIN:VCALENDAR
VERSION:2.0
PRODID:-//Plone.org//NONSGML plone.app.event//EN
X-WR-TIMEZONE:Europe/Madrid
BEGIN:VEVENT
SUMMARY:Exposició Orgànica: Lletres Gegants
DTSTART;TZID=Europe/Madrid;VALUE=DATE-TIME:20061030T000000
DTEND;TZID=Europe/Madrid;VALUE=DATE-TIME:20061030T010000
DTSTAMP;VALUE=DATE-TIME:20260425T202135Z
UID:26c4e5b4dc7901c44a64ada1cc215cf3
CREATED;VALUE=DATE-TIME:20061030T000000Z
CATEGORIES:Exposició,Agenda cultural
LOCATION:Centre Cívic
ORGANIZER:Regidoria de Medi Ambient amb la col·laboració de l'Agència de Residus de Catalunya
COMMENT:Preu: gratuït
Durada: Del 30 d'octubre al 6 de novembre
DESCRIPTION:Fins el 6 de novembre
URL:https://www.svmontalt.cat/document.php?id=1064
END:VEVENT
END:VCALENDAR