BEGIN:VCALENDAR
VERSION:2.0
PRODID:-//Plone.org//NONSGML plone.app.event//EN
X-WR-TIMEZONE:Europe/Madrid
BEGIN:VEVENT
SUMMARY:Taller de Microgimnàstica per a gent gran
DTSTART;TZID=Europe/Madrid;VALUE=DATE-TIME:20061006T110000
DTEND;TZID=Europe/Madrid;VALUE=DATE-TIME:20061006T120000
DTSTAMP;VALUE=DATE-TIME:20260426T043435Z
UID:483927f71300f2077a387cb8ce09c5f8
CREATED;VALUE=DATE-TIME:20061006T000000Z
CATEGORIES:Cursos,Agenda cultural
LOCATION:Centre Cívic
ORGANIZER:Regidoria de Benestar Social amb la col·laboració de la Diputació de Barcelona
COMMENT:Preu: gratuït
Durada: d'11.00 a 13.00h
DESCRIPTION:Inscripcions: fins el 28 de setembre
URL:https://www.svmontalt.cat/document.php?id=1065
END:VEVENT
END:VCALENDAR