BEGIN:VCALENDAR
VERSION:2.0
PRODID:-//Plone.org//NONSGML plone.app.event//EN
X-WR-TIMEZONE:Europe/Madrid
BEGIN:VEVENT
SUMMARY:Excursió a Castellterçol i Fundació Folch i Torres
DTSTART;TZID=Europe/Madrid;VALUE=DATE-TIME:20061129T080000
DTEND;TZID=Europe/Madrid;VALUE=DATE-TIME:20061129T090000
DTSTAMP;VALUE=DATE-TIME:20260425T202120Z
UID:e2510829cc2a92946e08fc8b1b8e3824
CREATED;VALUE=DATE-TIME:20061129T000000Z
LOCATION:Sortida des de l'Avinguda Verge de Montserrat (Consultori Mèdic)
ORGANIZER:Associació de la gent gran "Els Xurravins"
COMMENT:Preu: Socis: 28&euro; - No Socis: 31&euro;
URL:https://www.svmontalt.cat/document.php?id=1086
END:VEVENT
END:VCALENDAR