BEGIN:VCALENDAR
VERSION:2.0
PRODID:-//Plone.org//NONSGML plone.app.event//EN
X-WR-TIMEZONE:Europe/Madrid
BEGIN:VEVENT
SUMMARY:Taller: Activa't
DTSTART;TZID=Europe/Madrid;VALUE=DATE-TIME:20160301T160000
DTEND;TZID=Europe/Madrid;VALUE=DATE-TIME:20160301T170000
DTSTAMP;VALUE=DATE-TIME:20260421T233820Z
UID:80fe5d7a35e94d6f2556822ace2733f5
CREATED;VALUE=DATE-TIME:20160301T000000Z
CATEGORIES:Cursos,Agenda cultural
LOCATION:Casal de la Gent Gran Els Xurravins - Riera del Gorg, s/n
ORGANIZER:Associació de Gent Gran Els Xurravins amb el suport de Fundació "la Caixa"
COMMENT:Preu: Gratuït
Durada: De 16 a 18h
DESCRIPTION:Cal inscripció prèvia
URL:https://www.svmontalt.cat/document.php?id=11005
END:VEVENT
END:VCALENDAR