BEGIN:VCALENDAR
VERSION:2.0
PRODID:-//Plone.org//NONSGML plone.app.event//EN
X-WR-TIMEZONE:Europe/Madrid
BEGIN:VEVENT
SUMMARY:Festa de l'Orgànica
DTSTART;TZID=Europe/Madrid;VALUE=DATE-TIME:20061111T100000
DTEND;TZID=Europe/Madrid;VALUE=DATE-TIME:20061111T110000
DTSTAMP;VALUE=DATE-TIME:20260425T202501Z
UID:98a785de1d250c721c54e60919552d9a
CREATED;VALUE=DATE-TIME:20061111T000000Z
CATEGORIES:Festa,Agenda cultural
LOCATION:Pàrking de l'Església
ORGANIZER:Regidoria de Medi Ambient amb la col·laboració de l'Agència de Residus
COMMENT:Preu: Gratuït
URL:https://www.svmontalt.cat/document.php?id=1110
END:VEVENT
END:VCALENDAR