BEGIN:VCALENDAR
VERSION:2.0
PRODID:-//Plone.org//NONSGML plone.app.event//EN
X-WR-TIMEZONE:Europe/Madrid
BEGIN:VEVENT
SUMMARY:Sessió de "La Cuina de Sant Vicenç"
DTSTART;TZID=Europe/Madrid;VALUE=DATE-TIME:20070613T180000
DTEND;TZID=Europe/Madrid;VALUE=DATE-TIME:20070613T190000
DTSTAMP;VALUE=DATE-TIME:20260425T160737Z
UID:e9a15d8eaa3ae60f9660a538c5f68553
CREATED;VALUE=DATE-TIME:20070613T000000Z
CATEGORIES:Mostra,Agenda cultural
LOCATION:Casal de la Gent Gran (Centre Cívic El Gorg)
ORGANIZER:Associació de la Gent Gran "Els Xurravins"
COMMENT:Preu: Gratuït
DESCRIPTION:Cloenda 3a temporada
URL:https://www.svmontalt.cat/document.php?id=1112
END:VEVENT
END:VCALENDAR