BEGIN:VCALENDAR
VERSION:2.0
PRODID:-//Plone.org//NONSGML plone.app.event//EN
X-WR-TIMEZONE:Europe/Madrid
BEGIN:VEVENT
SUMMARY:Exposició: L'ahir i l'avui d'un poble
DTSTART;TZID=Europe/Madrid;VALUE=DATE-TIME:20061217T000000
DTEND;TZID=Europe/Madrid;VALUE=DATE-TIME:20061217T010000
DTSTAMP;VALUE=DATE-TIME:20260419T170732Z
UID:68fdcc11b39c3df2002fe17baaa0c2c9
CREATED;VALUE=DATE-TIME:20061217T000000Z
CATEGORIES:Exposició,Agenda cultural
LOCATION:Antic Calsal d'Avis (sala 2)
ORGANIZER:Associació Amics dels Pessebres de Sant Vicenç amb la col·laboració de l'Ajuntament de Sant Vicenç de Montalt
COMMENT:Preu: Gratuït
DESCRIPTION:Fins al 4 de febrer
URL:https://www.svmontalt.cat/document.php?id=1159
END:VEVENT
END:VCALENDAR