BEGIN:VCALENDAR
VERSION:2.0
PRODID:-//Plone.org//NONSGML plone.app.event//EN
X-WR-TIMEZONE:Europe/Madrid
BEGIN:VEVENT
SUMMARY:Taller: Inicia't a la informàtica
DTSTART;TZID=Europe/Madrid;VALUE=DATE-TIME:20161010T100000
DTEND;TZID=Europe/Madrid;VALUE=DATE-TIME:20161010T110000
DTSTAMP;VALUE=DATE-TIME:20260420T065125Z
UID:607c2ccb7fa0bebdded78af5a34a7d59
CREATED;VALUE=DATE-TIME:20161010T000000Z
CATEGORIES:Cursos,Agenda cultural
LOCATION:Telecentre - Riera del Gorg, s/n
ORGANIZER:Associació de Gent Gran Els Xurravins amb el suport de Fundació "la Caixa"
COMMENT:Preu: Gratuït
Durada: De 10 a 12h
URL:https://www.svmontalt.cat/document.php?id=11904
END:VEVENT
END:VCALENDAR