BEGIN:VCALENDAR
VERSION:2.0
PRODID:-//Plone.org//NONSGML plone.app.event//EN
X-WR-TIMEZONE:Europe/Madrid
BEGIN:VEVENT
SUMMARY:Fira Medieval
DTSTART;TZID=Europe/Madrid;VALUE=DATE-TIME:20070113T110000
DTEND;TZID=Europe/Madrid;VALUE=DATE-TIME:20070113T120000
DTSTAMP;VALUE=DATE-TIME:20260425T160437Z
UID:3fc00e4d86f25763f42f0b24c85d83fc
CREATED;VALUE=DATE-TIME:20070113T000000Z
CATEGORIES:Mostra,Agenda cultural
LOCATION:Pàrquing de l'Església
ORGANIZER:Regidoria de Cultura
COMMENT:Preu: Gratuït
Durada: Dissabte, 13, i diumenge, 14 de gener de 2007
DESCRIPTION:13 i 14 de gener
URL:https://www.svmontalt.cat/document.php?id=1204
END:VEVENT
END:VCALENDAR