BEGIN:VCALENDAR
VERSION:2.0
PRODID:-//Plone.org//NONSGML plone.app.event//EN
X-WR-TIMEZONE:Europe/Madrid
BEGIN:VEVENT
SUMMARY:2on Memorial Toni Colomé
DTSTART;TZID=Europe/Madrid;VALUE=DATE-TIME:20070122T200000
DTEND;TZID=Europe/Madrid;VALUE=DATE-TIME:20070122T210000
DTSTAMP;VALUE=DATE-TIME:20260422T115613Z
UID:70bbb30f592cca9a2c872650da72d073
CREATED;VALUE=DATE-TIME:20070122T000000Z
CATEGORIES:Esports
LOCATION:Camp Municipal de Futbol
ORGANIZER:C.F. Santvicentí amb la col·laboració de l'Ajuntament de Sant Vicenç de Montalt
URL:https://www.svmontalt.cat/document.php?id=1235
END:VEVENT
END:VCALENDAR