BEGIN:VCALENDAR
VERSION:2.0
PRODID:-//Plone.org//NONSGML plone.app.event//EN
X-WR-TIMEZONE:Europe/Madrid
BEGIN:VEVENT
SUMMARY:Exposició: Dia a dia, seguim avançant
DTSTART;TZID=Europe/Madrid;VALUE=DATE-TIME:20070127T190000
DTEND;TZID=Europe/Madrid;VALUE=DATE-TIME:20070127T200000
DTSTAMP;VALUE=DATE-TIME:20260419T155417Z
UID:0e2058290f5fed767b810deed669e8a2
CREATED;VALUE=DATE-TIME:20070127T000000Z
CATEGORIES:Exposició,Agenda cultural
LOCATION:Centre Cívic
ORGANIZER:Ajuntament de Sant Vicenç de Montalt
COMMENT:Preu: Gratuït
DESCRIPTION:Fins al 4 de febrer
URL:https://www.svmontalt.cat/document.php?id=1236
END:VEVENT
END:VCALENDAR