BEGIN:VCALENDAR
VERSION:2.0
PRODID:-//Plone.org//NONSGML plone.app.event//EN
X-WR-TIMEZONE:Europe/Madrid
BEGIN:VEVENT
SUMMARY:Descarregada d'Antiguitats a Can Boada
DTSTART;TZID=Europe/Madrid;VALUE=DATE-TIME:20080113T100000
DTEND;TZID=Europe/Madrid;VALUE=DATE-TIME:20080113T110000
DTSTAMP;VALUE=DATE-TIME:20260421T215704Z
UID:e10bdfcd2765f53c52a0c1f87cbfb9f4
CREATED;VALUE=DATE-TIME:20080113T000000Z
CATEGORIES:Mostra,Agenda cultural
LOCATION:Esplanada de Can Boada
ORGANIZER:Delta Organització d'Antiguitats, S.L.
URL:https://www.svmontalt.cat/document.php?id=1250
END:VEVENT
END:VCALENDAR