BEGIN:VCALENDAR
VERSION:2.0
PRODID:-//Plone.org//NONSGML plone.app.event//EN
X-WR-TIMEZONE:Europe/Madrid
BEGIN:VEVENT
SUMMARY:Exposició: 'Dones de Sant Vicenç'
DTSTART;TZID=Europe/Madrid;VALUE=DATE-TIME:20170331T100000
DTEND;TZID=Europe/Madrid;VALUE=DATE-TIME:20170331T110000
DTSTAMP;VALUE=DATE-TIME:20260423T152607Z
UID:911c6cf16d2ca0c8e51f69aea8bc2efb
CREATED;VALUE=DATE-TIME:20170313T000000Z
CATEGORIES:Exposició,Agenda cultural
LOCATION:Centre Cívic El Gorg - Riera del Gorg, s/n
ORGANIZER:Regidoria de Benestar Social amb la col·laboració del Grup Fotogràfic de Sant Vicenç de Montalt
COMMENT:Preu: Gratuït
Durada: Del 13 al 31 de març de 2017
DESCRIPTION:3a edició
URL:https://www.svmontalt.cat/document.php?id=12507
END:VEVENT
END:VCALENDAR