BEGIN:VCALENDAR
VERSION:2.0
PRODID:-//Plone.org//NONSGML plone.app.event//EN
X-WR-TIMEZONE:Europe/Madrid
BEGIN:VEVENT
SUMMARY:Visites veïns
DTSTART;TZID=Europe/Madrid;VALUE=DATE-TIME:20170405T090000
DTEND;TZID=Europe/Madrid;VALUE=DATE-TIME:20170405T100000
DTSTAMP;VALUE=DATE-TIME:20260424T153827Z
UID:045d6fa307c08a909a1027739ef9a03e
CREATED;VALUE=DATE-TIME:20170405T000000Z
CATEGORIES:Agenda de l'Alcalde
LOCATION:Despatx d'Alcaldia - C/ Sant Antoni, 13
URL:https://www.svmontalt.cat/document.php?id=12597
END:VEVENT
END:VCALENDAR