BEGIN:VCALENDAR
VERSION:2.0
PRODID:-//Plone.org//NONSGML plone.app.event//EN
X-WR-TIMEZONE:Europe/Madrid
BEGIN:VEVENT
SUMMARY:Reuníó coordinació en l'àmbit de Comunicació
DTSTART;TZID=Europe/Madrid;VALUE=DATE-TIME:20170405T140000
DTEND;TZID=Europe/Madrid;VALUE=DATE-TIME:20170405T150000
DTSTAMP;VALUE=DATE-TIME:20260424T154912Z
UID:5f9c3e0e91da2e44f1859b3a7b5a8055
CREATED;VALUE=DATE-TIME:20170405T000000Z
CATEGORIES:Agenda de l'Alcalde
LOCATION:Sala de Sessions de l'Ajuntament - Carrer Sant Antoni, 13
URL:https://www.svmontalt.cat/document.php?id=12599
END:VEVENT
END:VCALENDAR