BEGIN:VCALENDAR
VERSION:2.0
PRODID:-//Plone.org//NONSGML plone.app.event//EN
X-WR-TIMEZONE:Europe/Madrid
BEGIN:VEVENT
SUMMARY:Junta de Govern Local
DTSTART;TZID=Europe/Madrid;VALUE=DATE-TIME:20170406T181500
DTEND;TZID=Europe/Madrid;VALUE=DATE-TIME:20170406T191500
DTSTAMP;VALUE=DATE-TIME:20260424T153212Z
UID:d5316d4dc2524cb8bde58d7649a0c6ec
CREATED;VALUE=DATE-TIME:20170406T000000Z
CATEGORIES:Agenda de l'Alcalde
LOCATION:Despatx d'Alcaldia - C/ Sant Antoni, 13
URL:https://www.svmontalt.cat/document.php?id=12600
END:VEVENT
END:VCALENDAR