BEGIN:VCALENDAR
VERSION:2.0
PRODID:-//Plone.org//NONSGML plone.app.event//EN
X-WR-TIMEZONE:Europe/Madrid
BEGIN:VEVENT
SUMMARY:Visites veïns
DTSTART;TZID=Europe/Madrid;VALUE=DATE-TIME:20170405T100000
DTEND;TZID=Europe/Madrid;VALUE=DATE-TIME:20170405T110000
DTSTAMP;VALUE=DATE-TIME:20260424T153157Z
UID:9004ba01293dc2538d4d24bfb46adbdb
CREATED;VALUE=DATE-TIME:20170405T000000Z
CATEGORIES:Agenda de l'Alcalde
LOCATION:Despatx d'Alcaldia
URL:https://www.svmontalt.cat/document.php?id=12622
END:VEVENT
END:VCALENDAR