BEGIN:VCALENDAR
VERSION:2.0
PRODID:-//Plone.org//NONSGML plone.app.event//EN
X-WR-TIMEZONE:Europe/Madrid
BEGIN:VEVENT
SUMMARY:Reunió interna en l'àmbit d'Esport
DTSTART;TZID=Europe/Madrid;VALUE=DATE-TIME:20170405T170000
DTEND;TZID=Europe/Madrid;VALUE=DATE-TIME:20170405T180000
DTSTAMP;VALUE=DATE-TIME:20260424T164540Z
UID:c0a3e30ee8694acfb06e2100aa4c1a06
CREATED;VALUE=DATE-TIME:20170405T000000Z
CATEGORIES:Agenda de l'Alcalde
LOCATION:Despatx d'Alcaldia
URL:https://www.svmontalt.cat/document.php?id=12654
END:VEVENT
END:VCALENDAR