BEGIN:VCALENDAR
VERSION:2.0
PRODID:-//Plone.org//NONSGML plone.app.event//EN
X-WR-TIMEZONE:Europe/Madrid
BEGIN:VEVENT
SUMMARY:Exposició: Eines en miniatura i estris diversos
DTSTART;TZID=Europe/Madrid;VALUE=DATE-TIME:20070219T000000
DTEND;TZID=Europe/Madrid;VALUE=DATE-TIME:20070219T010000
DTSTAMP;VALUE=DATE-TIME:20260419T234232Z
UID:282503f6984ec0d96bba0c219afe58e7
CREATED;VALUE=DATE-TIME:20070219T000000Z
CATEGORIES:Exposició,Agenda cultural
LOCATION:Casal de la Gent Gran (Centre Cívic El Gorg)
ORGANIZER:Associació de Gent Gran "Els Xurravins"
COMMENT:Preu: Gratuït
DESCRIPTION:Fins al 31 de març
URL:https://www.svmontalt.cat/document.php?id=1274
END:VEVENT
END:VCALENDAR