BEGIN:VCALENDAR
VERSION:2.0
PRODID:-//Plone.org//NONSGML plone.app.event//EN
X-WR-TIMEZONE:Europe/Madrid
BEGIN:VEVENT
SUMMARY:Presentació de Pere Orts com a alcaldable d'ERC
DTSTART;TZID=Europe/Madrid;VALUE=DATE-TIME:20070302T200000
DTEND;TZID=Europe/Madrid;VALUE=DATE-TIME:20070302T210000
DTSTAMP;VALUE=DATE-TIME:20260420T054052Z
UID:94c66d17c0e9b07b42c1100f414ae25c
CREATED;VALUE=DATE-TIME:20070302T000000Z
LOCATION:Centre Cívic El Gorg
ORGANIZER:ERC de Sant Vicenç de Montalt
COMMENT:Preu: Gratuït
URL:https://www.svmontalt.cat/document.php?id=1277
END:VEVENT
END:VCALENDAR