BEGIN:VCALENDAR
VERSION:2.0
PRODID:-//Plone.org//NONSGML plone.app.event//EN
X-WR-TIMEZONE:Europe/Madrid
BEGIN:VEVENT
SUMMARY:Presentació de Miquel Àngel Pigem com a alcaldable d'ANEM-EPM
DTSTART;TZID=Europe/Madrid;VALUE=DATE-TIME:20070331T190000
DTEND;TZID=Europe/Madrid;VALUE=DATE-TIME:20070331T200000
DTSTAMP;VALUE=DATE-TIME:20260419T153904Z
UID:3a12dfe43f307516fe2dc6e2303fdb68
CREATED;VALUE=DATE-TIME:20070331T000000Z
LOCATION:Centre Cívic El Gorg
ORGANIZER:ANEM-EPM - Sant Vicenç de Montalt
COMMENT:Preu: Gratuït
URL:https://www.svmontalt.cat/document.php?id=1295
END:VEVENT
END:VCALENDAR