BEGIN:VCALENDAR
VERSION:2.0
PRODID:-//Plone.org//NONSGML plone.app.event//EN
X-WR-TIMEZONE:Europe/Madrid
BEGIN:VEVENT
SUMMARY:Visita de l'Oficina Mòbil d'Informació al Consumidor
DTSTART;TZID=Europe/Madrid;VALUE=DATE-TIME:20171024T103000
DTEND;TZID=Europe/Madrid;VALUE=DATE-TIME:20171024T113000
DTSTAMP;VALUE=DATE-TIME:20260419T101955Z
UID:61d402616184e5c4c29dcfb9b90848d0
CREATED;VALUE=DATE-TIME:20171024T000000Z
LOCATION:Montaltpark - C/ Costa Brava, 88
ORGANIZER:Regidoria de Sanitat, Salut Pública i Consum amb el suport de la Diputació de Barcelona
COMMENT:Preu: Gratuït
Durada: De 10.30 a 13h
URL:https://www.svmontalt.cat/document.php?id=13335
END:VEVENT
END:VCALENDAR