BEGIN:VCALENDAR
VERSION:2.0
PRODID:-//Plone.org//NONSGML plone.app.event//EN
X-WR-TIMEZONE:Europe/Madrid
BEGIN:VEVENT
SUMMARY:2on Concert Familiar i 1a Trobada de Grallers
DTSTART;TZID=Europe/Madrid;VALUE=DATE-TIME:20070415T110000
DTEND;TZID=Europe/Madrid;VALUE=DATE-TIME:20070415T120000
DTSTAMP;VALUE=DATE-TIME:20260422T134620Z
UID:96594000ad5a60e6ff6fbf88d0e88fd4
CREATED;VALUE=DATE-TIME:20070415T000000Z
CATEGORIES:Música,Agenda cultural
LOCATION:Plaça del Poble
ORGANIZER:Escola Municipal de Música L'Oriola i Colla Gegantera de Sant Vicenç de Montalt
COMMENT:Preu: Gratuït
URL:https://www.svmontalt.cat/document.php?id=1335
END:VEVENT
END:VCALENDAR