BEGIN:VCALENDAR
VERSION:2.0
PRODID:-//Plone.org//NONSGML plone.app.event//EN
X-WR-TIMEZONE:Europe/Madrid
BEGIN:VEVENT
SUMMARY:Reunió amb la diputada d'Esports
DTSTART;TZID=Europe/Madrid;VALUE=DATE-TIME:20171107T110000
DTEND;TZID=Europe/Madrid;VALUE=DATE-TIME:20171107T120000
DTSTAMP;VALUE=DATE-TIME:20260424T132335Z
UID:9c33627b9b395b4dacb210f08055b165
CREATED;VALUE=DATE-TIME:20171107T000000Z
CATEGORIES:Agenda de l'Alcalde
LOCATION:Barcelona
URL:https://www.svmontalt.cat/document.php?id=13410
END:VEVENT
END:VCALENDAR