BEGIN:VCALENDAR
VERSION:2.0
PRODID:-//Plone.org//NONSGML plone.app.event//EN
X-WR-TIMEZONE:Europe/Madrid
BEGIN:VEVENT
SUMMARY:Exposició de treballs de Patchwork
DTSTART;TZID=Europe/Madrid;VALUE=DATE-TIME:20070529T100000
DTEND;TZID=Europe/Madrid;VALUE=DATE-TIME:20070529T110000
DTSTAMP;VALUE=DATE-TIME:20260419T181531Z
UID:b67f82ded4a6eb715b4e0b9a26927484
CREATED;VALUE=DATE-TIME:20070529T000000Z
CATEGORIES:Exposició,Agenda cultural
LOCATION:Casal de la Gent Gran Els Xurravins al Centre Cívic El Gorg
ORGANIZER:Associació de Gent Gran Els Xurravins
COMMENT:Preu: Gratuït
Durada: Fins al 31 de maig
DESCRIPTION:Fins al 31 de maig
URL:https://www.svmontalt.cat/document.php?id=1342
END:VEVENT
END:VCALENDAR