BEGIN:VCALENDAR
VERSION:2.0
PRODID:-//Plone.org//NONSGML plone.app.event//EN
X-WR-TIMEZONE:Europe/Madrid
BEGIN:VEVENT
SUMMARY:Excursió Cultural al Castell de Peralada
DTSTART;TZID=Europe/Madrid;VALUE=DATE-TIME:20171129T073000
DTEND;TZID=Europe/Madrid;VALUE=DATE-TIME:20171129T083000
DTSTAMP;VALUE=DATE-TIME:20260425T231457Z
UID:b5ded2807e220c735f7e4f95bdf94319
CREATED;VALUE=DATE-TIME:20171129T000000Z
LOCATION:A les portes del Centre Cívic El Gorg - Riera del Gorg, s/n
ORGANIZER:Associació de Gent Gran Els Xurravins
COMMENT:Preu: 48 euros socis / 53 euros no socis
URL:https://www.svmontalt.cat/document.php?id=13435
END:VEVENT
END:VCALENDAR