BEGIN:VCALENDAR
VERSION:2.0
PRODID:-//Plone.org//NONSGML plone.app.event//EN
X-WR-TIMEZONE:Europe/Madrid
BEGIN:VEVENT
SUMMARY:Curs: Gestió bàsica d´una associació
DTSTART;TZID=Europe/Madrid;VALUE=DATE-TIME:20070517T190000
DTEND;TZID=Europe/Madrid;VALUE=DATE-TIME:20070517T200000
DTSTAMP;VALUE=DATE-TIME:20260425T202516Z
UID:d987cf46ac098c1f77ca8e6e50d09b36
CREATED;VALUE=DATE-TIME:20070517T000000Z
CATEGORIES:Cursos,Agenda cultural
LOCATION:Centre Cívic El Gorg
ORGANIZER:Regidoria de Participació Ciutadana
COMMENT:Preu: Gratuït
Durada: Del 8 al 17 de maig
URL:https://www.svmontalt.cat/document.php?id=1381
END:VEVENT
END:VCALENDAR