BEGIN:VCALENDAR
VERSION:2.0
PRODID:-//Plone.org//NONSGML plone.app.event//EN
X-WR-TIMEZONE:Europe/Madrid
BEGIN:VEVENT
SUMMARY:Festa Fi de Curs de les escoles de la vila
DTSTART;TZID=Europe/Madrid;VALUE=DATE-TIME:20070609T110000
DTEND;TZID=Europe/Madrid;VALUE=DATE-TIME:20070609T120000
DTSTAMP;VALUE=DATE-TIME:20260425T021757Z
UID:aaef3a4db512325cc2a7440664237d57
CREATED;VALUE=DATE-TIME:20070609T000000Z
CATEGORIES:Festa,Agenda cultural
LOCATION:Parc dels Germans Gabrielistes
ORGANIZER:Ampes del Ceip Sant Jordi, Ceip Sot del Camp i Escola Bressol Els Garrofers
COMMENT:Preu: Gratuït
Durada: de 10 del matí a 7 de la tarda
URL:https://www.svmontalt.cat/document.php?id=1397
END:VEVENT
END:VCALENDAR