BEGIN:VCALENDAR
VERSION:2.0
PRODID:-//Plone.org//NONSGML plone.app.event//EN
X-WR-TIMEZONE:Europe/Madrid
BEGIN:VEVENT
SUMMARY:Concert de fi de curs de L'Oriola
DTSTART;TZID=Europe/Madrid;VALUE=DATE-TIME:20070615T180000
DTEND;TZID=Europe/Madrid;VALUE=DATE-TIME:20070615T190000
DTSTAMP;VALUE=DATE-TIME:20260423T015616Z
UID:f37c1a753cd76573a2caf1ad15e49329
CREATED;VALUE=DATE-TIME:20070615T000000Z
CATEGORIES:Música,Agenda cultural
LOCATION:Centre Cívic El Gorg
ORGANIZER:Escola Municipal de Música L'Oriola
URL:https://www.svmontalt.cat/document.php?id=1399
END:VEVENT
END:VCALENDAR