BEGIN:VCALENDAR
VERSION:2.0
PRODID:-//Plone.org//NONSGML plone.app.event//EN
X-WR-TIMEZONE:Europe/Madrid
BEGIN:VEVENT
SUMMARY:Col·loqui: Història i anècdotes del poble
DTSTART;TZID=Europe/Madrid;VALUE=DATE-TIME:20070519T180000
DTEND;TZID=Europe/Madrid;VALUE=DATE-TIME:20070519T190000
DTSTAMP;VALUE=DATE-TIME:20260421T025757Z
UID:a1c0cfea1c5b2ccc8aee81ac6c61edc9
CREATED;VALUE=DATE-TIME:20070519T000000Z
CATEGORIES:Conferència,Agenda cultural
LOCATION:Hostal Montalmar
ORGANIZER:Hostal Montalmar amb la col·laboració de l'Ajuntament de Sant Vicenç de Montalt
COMMENT:Preu: Gratuït
URL:https://www.svmontalt.cat/document.php?id=1401
END:VEVENT
END:VCALENDAR