BEGIN:VCALENDAR
VERSION:2.0
PRODID:-//Plone.org//NONSGML plone.app.event//EN
X-WR-TIMEZONE:Europe/Madrid
BEGIN:VEVENT
SUMMARY:Ei, JOVE pren la iniciativa i mou-te!
DTSTART;TZID=Europe/Madrid;VALUE=DATE-TIME:20070613T160000
DTEND;TZID=Europe/Madrid;VALUE=DATE-TIME:20070613T170000
DTSTAMP;VALUE=DATE-TIME:20260426T045641Z
UID:b460c4f1bb95c93b2f72a89f8ca16fd0
CREATED;VALUE=DATE-TIME:20070613T000000Z
CATEGORIES:Cursos,Agenda cultural
LOCATION:Centre Cívic El Gorg
ORGANIZER:Regidories de Joventut i de Promoció Econòmica
COMMENT:Preu: Gratuït
DESCRIPTION:Tallers d'Orientació Laboral
URL:https://www.svmontalt.cat/document.php?id=1426
END:VEVENT
END:VCALENDAR