BEGIN:VCALENDAR
VERSION:2.0
PRODID:-//Plone.org//NONSGML plone.app.event//EN
X-WR-TIMEZONE:Europe/Madrid
BEGIN:VEVENT
SUMMARY:II Nit de l'Esport
DTSTART;TZID=Europe/Madrid;VALUE=DATE-TIME:20180629T200000
DTEND;TZID=Europe/Madrid;VALUE=DATE-TIME:20180629T210000
DTSTAMP;VALUE=DATE-TIME:20260422T070718Z
UID:f20f924c26af4bd02223a79079623b90
CREATED;VALUE=DATE-TIME:20180629T000000Z
CATEGORIES:Esports,Festa,Agenda cultural
LOCATION:Centre Cívic El Gorg - Riera del Gorg, s/n
ORGANIZER:Regidoria d'Esports
COMMENT:Preu: Gratuït
URL:https://www.svmontalt.cat/document.php?id=14324
END:VEVENT
END:VCALENDAR