BEGIN:VCALENDAR
VERSION:2.0
PRODID:-//Plone.org//NONSGML plone.app.event//EN
X-WR-TIMEZONE:Europe/Madrid
BEGIN:VEVENT
SUMMARY:Teatre: "Ruth i Mercè. Separades... i què?
DTSTART;TZID=Europe/Madrid;VALUE=DATE-TIME:20180630T200000
DTEND;TZID=Europe/Madrid;VALUE=DATE-TIME:20180630T210000
DTSTAMP;VALUE=DATE-TIME:20260422T053728Z
UID:eafa57b49adb37601b5681709418edc8
CREATED;VALUE=DATE-TIME:20180630T000000Z
CATEGORIES:Teatre,Agenda cultural
LOCATION:Centre Cívic El Gorg - Riera del Gorg, s/n
ORGANIZER:Associació de Gent Gran Els Xurravins
COMMENT:Preu: Gratuït
DESCRIPTION:Amb Mayte Carreras i Cristina Solà
URL:https://www.svmontalt.cat/document.php?id=14325
END:VEVENT
END:VCALENDAR