BEGIN:VCALENDAR
VERSION:2.0
PRODID:-//Plone.org//NONSGML plone.app.event//EN
X-WR-TIMEZONE:Europe/Madrid
BEGIN:VEVENT
SUMMARY:Exposició de dibuix i pintura
DTSTART;TZID=Europe/Madrid;VALUE=DATE-TIME:20180731T100000
DTEND;TZID=Europe/Madrid;VALUE=DATE-TIME:20180731T110000
DTSTAMP;VALUE=DATE-TIME:20260422T054144Z
UID:483085962cc1209dca93b3c71067a565
CREATED;VALUE=DATE-TIME:20180630T000000Z
CATEGORIES:Exposició,Agenda cultural
LOCATION:Casal de la Gent Gran Els Xurravins - Riera del Gorg, s/n
ORGANIZER:Associació de Gent Gran Els Xurravins
COMMENT:Preu: Gratuït
DESCRIPTION:Obres dels alumnes de l'escola de &#145;Els Xurravins´
URL:https://www.svmontalt.cat/document.php?id=14338
END:VEVENT
END:VCALENDAR