BEGIN:VCALENDAR
VERSION:2.0
PRODID:-//Plone.org//NONSGML plone.app.event//EN
X-WR-TIMEZONE:Europe/Madrid
BEGIN:VEVENT
SUMMARY:Lliurament de premis de l'11è Concurs de fotografia
DTSTART;TZID=Europe/Madrid;VALUE=DATE-TIME:20180701T123000
DTEND;TZID=Europe/Madrid;VALUE=DATE-TIME:20180701T133000
DTSTAMP;VALUE=DATE-TIME:20260422T083048Z
UID:342a1cfe6598005ec6f70ece06ef3d86
CREATED;VALUE=DATE-TIME:20180701T000000Z
CATEGORIES:Exposició,Agenda cultural
LOCATION:Casal de Cultura - Plaça del Poble, 6
ORGANIZER:Regidoria de Cultura i Festes
COMMENT:Preu: Gratuït
DESCRIPTION:Inauguració de l'exposició "Un tastet de Sant Vicenç"
URL:https://www.svmontalt.cat/document.php?id=14340
END:VEVENT
END:VCALENDAR