BEGIN:VCALENDAR
VERSION:2.0
PRODID:-//Plone.org//NONSGML plone.app.event//EN
X-WR-TIMEZONE:Europe/Madrid
BEGIN:VEVENT
SUMMARY:Matinal en ruta pel Salt del Cabrit
DTSTART;TZID=Europe/Madrid;VALUE=DATE-TIME:20180701T080000
DTEND;TZID=Europe/Madrid;VALUE=DATE-TIME:20180701T090000
DTSTAMP;VALUE=DATE-TIME:20260422T070503Z
UID:335a7b08ae71208659f772b351133ef7
CREATED;VALUE=DATE-TIME:20180701T000000Z
CATEGORIES:Esports
LOCATION:Pàrquing del c/ Ginesta - C/ Ginesta, s/n
ORGANIZER:MontalTrek
DESCRIPTION:Osona
URL:https://www.svmontalt.cat/document.php?id=14342
END:VEVENT
END:VCALENDAR