BEGIN:VCALENDAR
VERSION:2.0
PRODID:-//Plone.org//NONSGML plone.app.event//EN
X-WR-TIMEZONE:Europe/Madrid
BEGIN:VEVENT
SUMMARY:Festival de FitKid
DTSTART;TZID=Europe/Madrid;VALUE=DATE-TIME:20180630T190000
DTEND;TZID=Europe/Madrid;VALUE=DATE-TIME:20180630T200000
DTSTAMP;VALUE=DATE-TIME:20260422T053745Z
UID:ba8087adecabf384651590ea655217ef
CREATED;VALUE=DATE-TIME:20180630T000000Z
CATEGORIES:Esports
LOCATION:Pavelló Municipal Toni Sors - Avinguda Toni Sors, s/n
ORGANIZER:Club de FitKid Sant Vicenç de Montalt
COMMENT:Preu: Gratuït
URL:https://www.svmontalt.cat/document.php?id=14349
END:VEVENT
END:VCALENDAR