BEGIN:VCALENDAR
VERSION:2.0
PRODID:-//Plone.org//NONSGML plone.app.event//EN
X-WR-TIMEZONE:Europe/Madrid
BEGIN:VEVENT
SUMMARY:Curs: Creació d'un web
DTSTART;TZID=Europe/Madrid;VALUE=DATE-TIME:20070712T180000
DTEND;TZID=Europe/Madrid;VALUE=DATE-TIME:20070712T190000
DTSTAMP;VALUE=DATE-TIME:20260426T015608Z
UID:19160f86b1dc7301967b7574b5253204
CREATED;VALUE=DATE-TIME:20070712T000000Z
CATEGORIES:Cursos,Agenda cultural
LOCATION:Telecentre del Centre Cívic El Gorg
ORGANIZER:Regidoria de Promoció Econòmica
COMMENT:Preu: Gratuït
Durada: De 6 a 8 de la tarda
URL:https://www.svmontalt.cat/document.php?id=1436
END:VEVENT
END:VCALENDAR