BEGIN:VCALENDAR
VERSION:2.0
PRODID:-//Plone.org//NONSGML plone.app.event//EN
X-WR-TIMEZONE:Europe/Madrid
BEGIN:VEVENT
SUMMARY:Maridatge de poesia
DTSTART;TZID=Europe/Madrid;VALUE=DATE-TIME:20180817T220000
DTEND;TZID=Europe/Madrid;VALUE=DATE-TIME:20180817T230000
DTSTAMP;VALUE=DATE-TIME:20260420T065242Z
UID:3e0252074b606c943d5f6dc6760072f1
CREATED;VALUE=DATE-TIME:20180817T000000Z
CATEGORIES:Festa,Literatura,Música,Agenda cultural
LOCATION:Centre Cívic El Gorg - Riera del Gorg, s/n
ORGANIZER:Biblioteca Municipal La Muntala - Regidoria de Cultura i Festes
COMMENT:Preu: 10 euros
URL:https://www.svmontalt.cat/document.php?id=14431
END:VEVENT
END:VCALENDAR