BEGIN:VCALENDAR
VERSION:2.0
PRODID:-//Plone.org//NONSGML plone.app.event//EN
X-WR-TIMEZONE:Europe/Madrid
BEGIN:VEVENT
SUMMARY:Exposicions de pintures i encenedors
DTSTART;TZID=Europe/Madrid;VALUE=DATE-TIME:20070730T100000
DTEND;TZID=Europe/Madrid;VALUE=DATE-TIME:20070730T110000
DTSTAMP;VALUE=DATE-TIME:20260419T155953Z
UID:60a263e959a88bc9d1cf475f39c3ed0c
CREATED;VALUE=DATE-TIME:20070730T000000Z
CATEGORIES:Exposició,Agenda cultural
LOCATION:Casal de la Gent Gran (Centre Cívic El Gorg)
ORGANIZER:Associació de Gent Gran "Els Xurravins"
COMMENT:Preu: Gratuït
Durada: Durant el mes de juny
DESCRIPTION:Durant el mes de juliol
URL:https://www.svmontalt.cat/document.php?id=1449
END:VEVENT
END:VCALENDAR