BEGIN:VCALENDAR
VERSION:2.0
PRODID:-//Plone.org//NONSGML plone.app.event//EN
X-WR-TIMEZONE:Europe/Madrid
BEGIN:VEVENT
SUMMARY:Exposició: Corremón
DTSTART;TZID=Europe/Madrid;VALUE=DATE-TIME:20070719T000000
DTEND;TZID=Europe/Madrid;VALUE=DATE-TIME:20070719T010000
DTSTAMP;VALUE=DATE-TIME:20260419T182235Z
UID:7730d70964a9bf6e1dd9235c7536e812
CREATED;VALUE=DATE-TIME:20070719T000000Z
CATEGORIES:Exposició,Agenda cultural
LOCATION:Biblioteca Pública  La Muntala
ORGANIZER:Biblioteca Pública La Muntala
COMMENT:Preu: Gratuït
Durada: Del 27 de juny al 22 de juliol
DESCRIPTION:Fins al 22 de juliol
URL:https://www.svmontalt.cat/document.php?id=1450
END:VEVENT
END:VCALENDAR