BEGIN:VCALENDAR
VERSION:2.0
PRODID:-//Plone.org//NONSGML plone.app.event//EN
X-WR-TIMEZONE:Europe/Madrid
BEGIN:VEVENT
SUMMARY:Sessió extarordinària del Consell Sectorial de Medi Ambient
DTSTART;TZID=Europe/Madrid;VALUE=DATE-TIME:20070618T193000
DTEND;TZID=Europe/Madrid;VALUE=DATE-TIME:20070618T203000
DTSTAMP;VALUE=DATE-TIME:20260423T015440Z
UID:d98c71d41d4c55c1fd0ab01a2f80fcac
CREATED;VALUE=DATE-TIME:20070618T000000Z
LOCATION:Centre Cívic El Gorg
ORGANIZER:Regidoria de Participació Ciutadana
URL:https://www.svmontalt.cat/document.php?id=1453
END:VEVENT
END:VCALENDAR