BEGIN:VCALENDAR
VERSION:2.0
PRODID:-//Plone.org//NONSGML plone.app.event//EN
X-WR-TIMEZONE:Europe/Madrid
BEGIN:VEVENT
SUMMARY:Teatre: Un marit per la meva dona
DTSTART;TZID=Europe/Madrid;VALUE=DATE-TIME:20181021T190000
DTEND;TZID=Europe/Madrid;VALUE=DATE-TIME:20181021T200000
DTSTAMP;VALUE=DATE-TIME:20260421T010516Z
UID:6d9a644964977b3b4791e553a7b3d51e
CREATED;VALUE=DATE-TIME:20181021T000000Z
CATEGORIES:Teatre,Agenda cultural
LOCATION:Centre Cívic El Gorg - Riera del Gorg, s/n
ORGANIZER:Associació de Gent Gran Els Xurravins
COMMENT:Preu: Gratuït
DESCRIPTION:A càrrec del Grup de Teatre Xurravins
URL:https://www.svmontalt.cat/document.php?id=14600
END:VEVENT
END:VCALENDAR