BEGIN:VCALENDAR
VERSION:2.0
PRODID:-//Plone.org//NONSGML plone.app.event//EN
X-WR-TIMEZONE:Europe/Madrid
BEGIN:VEVENT
SUMMARY:Ruta megalítica de la Roca del Vallés al Bosc Encantat d'Òrrius
DTSTART;TZID=Europe/Madrid;VALUE=DATE-TIME:20181021T080000
DTEND;TZID=Europe/Madrid;VALUE=DATE-TIME:20181021T090000
DTSTAMP;VALUE=DATE-TIME:20260421T023606Z
UID:454c0044fadff91ac4dbb06bcebc2c72
CREATED;VALUE=DATE-TIME:20181021T000000Z
CATEGORIES:Esports
LOCATION:Pàrquing del c/ Ginesta - C/ Ginesta, s/n
ORGANIZER:MontalTrek
DESCRIPTION:Passant pel Turó Rodó i Sant Bartomeu de Cabanyes
URL:https://www.svmontalt.cat/document.php?id=14602
END:VEVENT
END:VCALENDAR