BEGIN:VCALENDAR
VERSION:2.0
PRODID:-//Plone.org//NONSGML plone.app.event//EN
X-WR-TIMEZONE:Europe/Madrid
BEGIN:VEVENT
SUMMARY:Exposició col·lectiva de fotografia
DTSTART;TZID=Europe/Madrid;VALUE=DATE-TIME:20181028T100000
DTEND;TZID=Europe/Madrid;VALUE=DATE-TIME:20181028T110000
DTSTAMP;VALUE=DATE-TIME:20260421T010532Z
UID:3e5512b1b890798492d67b9ca6b309c6
CREATED;VALUE=DATE-TIME:20181012T000000Z
CATEGORIES:Exposició,Agenda cultural
LOCATION:Casal de Cultura - Plaça del Poble, 6
ORGANIZER:Grup Fotogràfic SVM
COMMENT:Preu: Gratuïta
Durada: Es podrà visitar els divendres i caps de setmana
DESCRIPTION:Obres de membres del Grup Fotogràfic SVM
URL:https://www.svmontalt.cat/document.php?id=14606
END:VEVENT
END:VCALENDAR