BEGIN:VCALENDAR
VERSION:2.0
PRODID:-//Plone.org//NONSGML plone.app.event//EN
X-WR-TIMEZONE:Europe/Madrid
BEGIN:VEVENT
SUMMARY:Curs: Fes tràmits per Internet
DTSTART;TZID=Europe/Madrid;VALUE=DATE-TIME:20181105T100000
DTEND;TZID=Europe/Madrid;VALUE=DATE-TIME:20181105T110000
DTSTAMP;VALUE=DATE-TIME:20260421T010711Z
UID:d4fbd7fa214e100daca715b4a2a57cb9
CREATED;VALUE=DATE-TIME:20181001T000000Z
CATEGORIES:Cursos,Agenda cultural
LOCATION:Telecentre - Riera del Gorg, s/n
ORGANIZER:Associació de Gent Gran ·Els Xurravins amb el suport de Fundació "la Caixa"
COMMENT:Preu: Gratuït
Durada: Els dilluns i dijous, de 10:00 a 12:00 hores
URL:https://www.svmontalt.cat/document.php?id=14613
END:VEVENT
END:VCALENDAR