BEGIN:VCALENDAR
VERSION:2.0
PRODID:-//Plone.org//NONSGML plone.app.event//EN
X-WR-TIMEZONE:Europe/Madrid
BEGIN:VEVENT
SUMMARY:Torneig de bàsquet
DTSTART;TZID=Europe/Madrid;VALUE=DATE-TIME:20070609T101500
DTEND;TZID=Europe/Madrid;VALUE=DATE-TIME:20070609T111500
DTSTAMP;VALUE=DATE-TIME:20260420T061505Z
UID:2bfd526cf58e3188a315227edd1822f2
CREATED;VALUE=DATE-TIME:20070609T000000Z
CATEGORIES:Esports
LOCATION:Pavelló Poliesportiu Toni Sors
ORGANIZER:Regidoria d'Esports
COMMENT:Preu: Gratuït
URL:https://www.svmontalt.cat/document.php?id=1465
END:VEVENT
END:VCALENDAR