BEGIN:VCALENDAR
VERSION:2.0
PRODID:-//Plone.org//NONSGML plone.app.event//EN
X-WR-TIMEZONE:Europe/Madrid
BEGIN:VEVENT
SUMMARY:Exposició: Noms robats
DTSTART;TZID=Europe/Madrid;VALUE=DATE-TIME:20181109T160000
DTEND;TZID=Europe/Madrid;VALUE=DATE-TIME:20181109T170000
DTSTAMP;VALUE=DATE-TIME:20260421T010654Z
UID:9733cc47fffbb37346ce0bc8b0a3f114
CREATED;VALUE=DATE-TIME:20181019T000000Z
CATEGORIES:Exposició,Agenda cultural
LOCATION:Biblioteca Municipal La Muntala - Riera del Gorg, s/n
ORGANIZER:Biblioteca Municipal La Muntala
COMMENT:Preu: Gratuït
DESCRIPTION:A càrrec del periodista i il·lustrador Josep Antoni Tàssies
URL:https://www.svmontalt.cat/document.php?id=14728
END:VEVENT
END:VCALENDAR