BEGIN:VCALENDAR
VERSION:2.0
PRODID:-//Plone.org//NONSGML plone.app.event//EN
X-WR-TIMEZONE:Europe/Madrid
BEGIN:VEVENT
SUMMARY:Tarda de bingo
DTSTART;TZID=Europe/Madrid;VALUE=DATE-TIME:20181115T180000
DTEND;TZID=Europe/Madrid;VALUE=DATE-TIME:20181115T190000
DTSTAMP;VALUE=DATE-TIME:20260425T124813Z
UID:f3de76a4d2dff2c6537018e50f7f4178
CREATED;VALUE=DATE-TIME:20181115T000000Z
LOCATION:Casal de la Gent Gran Els Xurravins - Riera del Gorg, s/n
ORGANIZER:Associació de Gent Gran Els Xurravins
COMMENT:Preu: Gratuït
Durada: De 18 a 19.30h
URL:https://www.svmontalt.cat/document.php?id=14736
END:VEVENT
END:VCALENDAR