BEGIN:VCALENDAR
VERSION:2.0
PRODID:-//Plone.org//NONSGML plone.app.event//EN
X-WR-TIMEZONE:Europe/Madrid
BEGIN:VEVENT
SUMMARY:Taller de literatura
DTSTART;TZID=Europe/Madrid;VALUE=DATE-TIME:20181115T190000
DTEND;TZID=Europe/Madrid;VALUE=DATE-TIME:20181115T200000
DTSTAMP;VALUE=DATE-TIME:20260425T142151Z
UID:9430c0a37626a7eef42ac3d0ac5a1276
CREATED;VALUE=DATE-TIME:20181115T000000Z
CATEGORIES:Literatura,Agenda cultural
LOCATION:Biblioteca Municipal La Muntala - Riera del Gorg, s/n
ORGANIZER:Biblioteca Municipal La Muntala
COMMENT:Preu: Gratuït
DESCRIPTION:Amb Mª José Magaz
URL:https://www.svmontalt.cat/document.php?id=14738
END:VEVENT
END:VCALENDAR